BEGIN:VCALENDAR
VERSION:2.0
PRODID:icalendar-ruby
CALSCALE:GREGORIAN
BEGIN:VEVENT
DTSTAMP:20260421T093307Z
UID:25f48e2d-9c9e-4317-acb4-b3b404bc5063
DTSTART;VALUE=DATE:20200715
DESCRIPTION:Property ID# 483399\, Locatoin: Tall Poppy - 14 Hartham Place\,
  Porirua\, Time: 12:00PM
SUMMARY:Auction for 
END:VEVENT
END:VCALENDAR
