BEGIN:VCALENDAR
VERSION:2.0
PRODID:icalendar-ruby
CALSCALE:GREGORIAN
BEGIN:VEVENT
DTSTAMP:20260421T213405Z
UID:e6f374a2-82aa-4398-b588-78d9e3ab886c
DTSTART;VALUE=DATE:20200813
DESCRIPTION:Property ID# 485233\, Locatoin: Harcourts Paremata Office - 7 D
 olly Varden Crescent\, Paremata (not selling prior)\, Time: 4:00PM
SUMMARY:Auction for 
END:VEVENT
END:VCALENDAR
