BEGIN:VCALENDAR
VERSION:2.0
PRODID:icalendar-ruby
CALSCALE:GREGORIAN
BEGIN:VEVENT
DTSTAMP:20260423T091503Z
UID:1984e3fb-bb64-4108-aa4a-2470e7a72d06
DTSTART;VALUE=DATE:20201125
DESCRIPTION:Property ID# 494084\, Locatoin: Tommys Mana\, 99 Mana Esplanade
 \, Paremata\, Time: 1:00PM
SUMMARY:Auction for 
END:VEVENT
END:VCALENDAR
