BEGIN:VCALENDAR
VERSION:2.0
PRODID:icalendar-ruby
CALSCALE:GREGORIAN
BEGIN:VEVENT
DTSTAMP:20260421T153219Z
UID:2ea49d99-5a41-4395-a65c-7fa4bb7965c9
DTSTART;VALUE=DATE:20201209
DESCRIPTION:Property ID# 496133\, Locatoin: Tommy's Mana\, 99 Mana Esplanad
 e\, Paremata\, Time: 1:00PM
SUMMARY:Auction for 
END:VEVENT
END:VCALENDAR
