BEGIN:VCALENDAR
VERSION:2.0
PRODID:icalendar-ruby
CALSCALE:GREGORIAN
BEGIN:VEVENT
DTSTAMP:20260422T035412Z
UID:bab7add7-22b7-404a-a6db-0d9b1cdc8b6d
DTSTART;VALUE=DATE:20201217
DESCRIPTION:Property ID# 496378\, Locatoin: Harcourts Paremata @ 1pm\, Time
 : 1:00PM
SUMMARY:Auction for 
END:VEVENT
END:VCALENDAR
