BEGIN:VCALENDAR
VERSION:2.0
PRODID:icalendar-ruby
CALSCALE:GREGORIAN
BEGIN:VEVENT
DTSTAMP:20260423T091601Z
UID:97feaeef-1491-4ba4-a03c-3dddb447e428
DTSTART;VALUE=DATE:20201222
DESCRIPTION:Property ID# 498349\, Locatoin: Tommys Mana\, 99 Mana Esplanade
 \, Paremata\, Time: 1:00PM
SUMMARY:Auction for 
END:VEVENT
END:VCALENDAR
