BEGIN:VCALENDAR
VERSION:2.0
PRODID:icalendar-ruby
CALSCALE:GREGORIAN
BEGIN:VEVENT
DTSTAMP:20260420T132404Z
UID:32df4c05-aee6-4c5e-9cbf-a973e70ac8f9
DTSTART;VALUE=DATE:20210212
DESCRIPTION:Property ID# 500109\, Locatoin: Harcourts Mana Office\, 7 Dolly
  Varden Crescent\, Mana\, Time: 12:00PM
SUMMARY:Auction for 
END:VEVENT
END:VCALENDAR
