BEGIN:VCALENDAR
VERSION:2.0
PRODID:icalendar-ruby
CALSCALE:GREGORIAN
BEGIN:VEVENT
DTSTAMP:20260421T152905Z
UID:87a0b9d3-129f-4379-9d32-16248a27a7a1
DTSTART;VALUE=DATE:20210210
DESCRIPTION:Property ID# 500112\, Locatoin: Tommys Mana\, 99 Mana Esplanade
 \, Paremata\, Time: 1:00PM
SUMMARY:Auction for 
END:VEVENT
END:VCALENDAR
