BEGIN:VCALENDAR
VERSION:2.0
PRODID:icalendar-ruby
CALSCALE:GREGORIAN
BEGIN:VEVENT
DTSTAMP:20260424T124302Z
UID:76b8cc30-6f46-4075-a15c-07d94ffad89d
DTSTART;VALUE=DATE:20210714
DESCRIPTION:Property ID# 511660\, Locatoin: Harcourts\, 7 Dolly Varden Cres
 cent\, Paremata\, Time: 5:00PM
SUMMARY:Auction for 
END:VEVENT
END:VCALENDAR
