BEGIN:VCALENDAR
VERSION:2.0
PRODID:icalendar-ruby
CALSCALE:GREGORIAN
BEGIN:VEVENT
DTSTAMP:20260419T185145Z
UID:fef50da7-8fb1-4c24-8794-934967cd6cf7
DTSTART;VALUE=DATE:20211021
DESCRIPTION:Property ID# 518579\, Locatoin: Tommy's Real Estate\, 99 Mana E
 splanade\, Paremata\, Time: 12:00PM
SUMMARY:Auction for 
END:VEVENT
END:VCALENDAR
