BEGIN:VCALENDAR
VERSION:2.0
PRODID:icalendar-ruby
CALSCALE:GREGORIAN
BEGIN:VEVENT
DTSTAMP:20260425T155226Z
UID:d9bc7d00-2a8c-442d-b835-fb6423db351e
DTSTART;VALUE=DATE:20220317
DESCRIPTION:Property ID# 529264\, Locatoin: Tommy's Mana\, 99 Mana Esplanad
 e\, Paremata\, Time: 12:00PM
SUMMARY:Auction for 
END:VEVENT
END:VCALENDAR
