BEGIN:VCALENDAR
VERSION:2.0
PRODID:icalendar-ruby
CALSCALE:GREGORIAN
BEGIN:VEVENT
DTSTAMP:20260424T124301Z
UID:c0b4fbb5-b60e-494e-92b4-01f63abfea38
DTSTART;VALUE=DATE:20220414
DESCRIPTION:Property ID# 532031\, Locatoin: Harcourts Paremata at 4pm (unle
 ss sold prior)\, Time: 12:00PM
SUMMARY:Auction for 
END:VEVENT
END:VCALENDAR
