BEGIN:VCALENDAR
VERSION:2.0
PRODID:icalendar-ruby
CALSCALE:GREGORIAN
BEGIN:VEVENT
DTSTAMP:20260422T232912Z
UID:175f8a12-a8a0-4439-8277-4ae3b17d539d
DTSTART;VALUE=DATE:20220928
DESCRIPTION:Property ID# 542967\, Locatoin: Harcourts Paremata @ 1pm\, Time
 : 1:00PM
SUMMARY:Auction for 
END:VEVENT
END:VCALENDAR
