BEGIN:VCALENDAR
VERSION:2.0
PRODID:icalendar-ruby
CALSCALE:GREGORIAN
BEGIN:VEVENT
DTSTAMP:20260422T111506Z
UID:cb715c3a-9405-4bf7-866d-bead014c012d
DTSTART;VALUE=DATE:20231011
DESCRIPTION:Property ID# 550225\, Locatoin: Harcourts Paremata at 1pm\, Tim
 e: 1:00PM
SUMMARY:Auction for 
END:VEVENT
END:VCALENDAR
