BEGIN:VCALENDAR
VERSION:2.0
PRODID:icalendar-ruby
CALSCALE:GREGORIAN
BEGIN:VEVENT
DTSTAMP:20260421T111107Z
UID:23796fbd-750c-45bb-ba15-c21eba8d49b7
DTSTART;VALUE=DATE:20250723
DESCRIPTION:Property ID# 594355\, Locatoin: Harcourts Paremata at 1pm \, Ti
 me: 1:00PM
SUMMARY:Auction for 
END:VEVENT
END:VCALENDAR
