BEGIN:VCALENDAR
VERSION:2.0
PRODID:icalendar-ruby
CALSCALE:GREGORIAN
BEGIN:VEVENT
DTSTAMP:20260419T155205Z
UID:7906cdfe-e903-488c-8382-07ff68d49ad6
DTSTART;VALUE=DATE:20251022
DESCRIPTION:Property ID# 597831\, Locatoin: Harcourts Paremata at 1pm \, Ti
 me: 1:00PM
SUMMARY:Auction for 
END:VEVENT
END:VCALENDAR
